BEGIN:VCALENDAR
VERSION:2.0
PRODID:-//WTC De Hoeftrappers - ECPv6.15.20//NONSGML v1.0//EN
CALSCALE:GREGORIAN
METHOD:PUBLISH
X-WR-CALNAME:WTC De Hoeftrappers
X-ORIGINAL-URL:https://wtcdehoeftrappers.be
X-WR-CALDESC:Evenementen voor WTC De Hoeftrappers
REFRESH-INTERVAL;VALUE=DURATION:PT1H
X-Robots-Tag:noindex
X-PUBLISHED-TTL:PT1H
BEGIN:VTIMEZONE
TZID:Europe/Brussels
BEGIN:DAYLIGHT
TZOFFSETFROM:+0100
TZOFFSETTO:+0200
TZNAME:CEST
DTSTART:20250330T010000
END:DAYLIGHT
BEGIN:STANDARD
TZOFFSETFROM:+0200
TZOFFSETTO:+0100
TZNAME:CET
DTSTART:20251026T010000
END:STANDARD
BEGIN:DAYLIGHT
TZOFFSETFROM:+0100
TZOFFSETTO:+0200
TZNAME:CEST
DTSTART:20260329T010000
END:DAYLIGHT
BEGIN:STANDARD
TZOFFSETFROM:+0200
TZOFFSETTO:+0100
TZNAME:CET
DTSTART:20261025T010000
END:STANDARD
BEGIN:DAYLIGHT
TZOFFSETFROM:+0100
TZOFFSETTO:+0200
TZNAME:CEST
DTSTART:20270328T010000
END:DAYLIGHT
BEGIN:STANDARD
TZOFFSETFROM:+0200
TZOFFSETTO:+0100
TZNAME:CET
DTSTART:20271031T010000
END:STANDARD
END:VTIMEZONE
BEGIN:VEVENT
DTSTART;TZID=Europe/Brussels:20260514T080000
DTEND;TZID=Europe/Brussels:20260517T180000
DTSTAMP:20260421T072615
CREATED:20260215T144341Z
LAST-MODIFIED:20260215T144341Z
UID:6464-1778745600-1779040800@wtcdehoeftrappers.be
SUMMARY:Meerdaagse Sluiskil
DESCRIPTION:
URL:https://wtcdehoeftrappers.be/evenement/meerdaagse-sluiskil/
LOCATION:Sluiskil
END:VEVENT
BEGIN:VEVENT
DTSTART;VALUE=DATE:20260822
DTEND;VALUE=DATE:20260823
DTSTAMP:20260421T072615
CREATED:20260208T095756Z
LAST-MODIFIED:20260208T095756Z
UID:6445-1787356800-1787443199@wtcdehoeftrappers.be
SUMMARY:Familiedag
DESCRIPTION:
URL:https://wtcdehoeftrappers.be/evenement/familiedag-2/
LOCATION:Oost-Vlaanderen
END:VEVENT
BEGIN:VEVENT
DTSTART;TZID=Europe/Brussels:20260920T080000
DTEND;TZID=Europe/Brussels:20260920T113000
DTSTAMP:20260421T072615
CREATED:20260320T181313Z
LAST-MODIFIED:20260320T181535Z
UID:6543-1789891200-1789903800@wtcdehoeftrappers.be
SUMMARY:VTT - Gravel & Wandeltocht Memorial William Verbeken
DESCRIPTION:
URL:https://wtcdehoeftrappers.be/evenement/vtt-gravel-wandeltocht-memorial-william-verbeken-2/
LOCATION:Jeugdterreinen Erpe-Mere United\, Lindekouter 43\, Erpe-Mere\, Oost-Vlaanderen\, 9420\, Belgium
ORGANIZER;CN="WTC De Hoeftrappers":MAILTO:info@wtcdehoeftrappers.be
END:VEVENT
BEGIN:VEVENT
DTSTART;TZID=Europe/Brussels:20261011T090000
DTEND;TZID=Europe/Brussels:20261011T150000
DTSTAMP:20260421T072615
CREATED:20260208T095945Z
LAST-MODIFIED:20260208T095945Z
UID:6447-1791709200-1791730800@wtcdehoeftrappers.be
SUMMARY:Laatste rit seizoen 2026
DESCRIPTION:
URL:https://wtcdehoeftrappers.be/evenement/laatste-rit-seizoen-2026/
LOCATION:Café Strokens Haaltert\, Edestraat 193\, Haaltert\, Oost-Vlaanderen\, 9450\, Belgium
END:VEVENT
BEGIN:VEVENT
DTSTART;TZID=Europe/Brussels:20261024T080000
DTEND;TZID=Europe/Brussels:20261024T170000
DTSTAMP:20260421T072615
CREATED:20260208T100556Z
LAST-MODIFIED:20260208T100556Z
UID:6455-1792828800-1792861200@wtcdehoeftrappers.be
SUMMARY:Souper
DESCRIPTION:
URL:https://wtcdehoeftrappers.be/evenement/souper-2/
LOCATION:Feestzaal Ensor\, Oudenaardsesteenweg 729\, Erpe-Mere\, Oost-Vlaanderen\, 9420
END:VEVENT
BEGIN:VEVENT
DTSTART;TZID=Europe/Brussels:20261127T180000
DTEND;TZID=Europe/Brussels:20261127T220000
DTSTAMP:20260421T072615
CREATED:20260208T100052Z
LAST-MODIFIED:20260208T100052Z
UID:6449-1795802400-1795816800@wtcdehoeftrappers.be
SUMMARY:Eetfestijn WTC De Hoeftrappers
DESCRIPTION:
URL:https://wtcdehoeftrappers.be/evenement/eetfestijn-wtc-de-hoeftrappers-3/
LOCATION:Zaal Torengalm\, Aaigemdorp 94\, Erpe-Mere\, Oost-Vlaanderen\, 9420\, Belgium
END:VEVENT
BEGIN:VEVENT
DTSTART;TZID=Europe/Brussels:20261128T180000
DTEND;TZID=Europe/Brussels:20261128T220000
DTSTAMP:20260421T072615
CREATED:20260208T100124Z
LAST-MODIFIED:20260208T100124Z
UID:6451-1795888800-1795903200@wtcdehoeftrappers.be
SUMMARY:Eetfestijn WTC De Hoeftrappers
DESCRIPTION:
URL:https://wtcdehoeftrappers.be/evenement/eetfestijn-wtc-de-hoeftrappers-4/
LOCATION:Zaal Torengalm\, Aaigemdorp 94\, Erpe-Mere\, Oost-Vlaanderen\, 9420\, Belgium
END:VEVENT
BEGIN:VEVENT
DTSTART;TZID=Europe/Brussels:20261129T113000
DTEND;TZID=Europe/Brussels:20261129T140000
DTSTAMP:20260421T072615
CREATED:20260208T100200Z
LAST-MODIFIED:20260208T100200Z
UID:6453-1795951800-1795960800@wtcdehoeftrappers.be
SUMMARY:Eetfestijn WTC De Hoeftrappers
DESCRIPTION:
URL:https://wtcdehoeftrappers.be/evenement/eetfestijn-wtc-de-hoeftrappers-5/
LOCATION:Zaal Torengalm\, Aaigemdorp 94\, Erpe-Mere\, Oost-Vlaanderen\, 9420\, Belgium
END:VEVENT
END:VCALENDAR